BEGIN:VCALENDAR
VERSION:2.0
PRODID:-//Sydney Business Golf Group - ECPv6.15.20//NONSGML v1.0//EN
CALSCALE:GREGORIAN
METHOD:PUBLISH
X-WR-CALNAME:Sydney Business Golf Group
X-ORIGINAL-URL:https://sydneybusinessgolfgroup.com.au
X-WR-CALDESC:Events for Sydney Business Golf Group
REFRESH-INTERVAL;VALUE=DURATION:PT1H
X-Robots-Tag:noindex
X-PUBLISHED-TTL:PT1H
BEGIN:VTIMEZONE
TZID:Australia/Melbourne
BEGIN:STANDARD
TZOFFSETFROM:+1100
TZOFFSETTO:+1000
TZNAME:AEST
DTSTART:20250405T160000
END:STANDARD
BEGIN:DAYLIGHT
TZOFFSETFROM:+1000
TZOFFSETTO:+1100
TZNAME:AEDT
DTSTART:20251004T160000
END:DAYLIGHT
BEGIN:STANDARD
TZOFFSETFROM:+1100
TZOFFSETTO:+1000
TZNAME:AEST
DTSTART:20260404T160000
END:STANDARD
BEGIN:DAYLIGHT
TZOFFSETFROM:+1000
TZOFFSETTO:+1100
TZNAME:AEDT
DTSTART:20261003T160000
END:DAYLIGHT
BEGIN:STANDARD
TZOFFSETFROM:+1100
TZOFFSETTO:+1000
TZNAME:AEST
DTSTART:20270403T160000
END:STANDARD
BEGIN:DAYLIGHT
TZOFFSETFROM:+1000
TZOFFSETTO:+1100
TZNAME:AEDT
DTSTART:20271002T160000
END:DAYLIGHT
END:VTIMEZONE
BEGIN:VEVENT
DTSTART;TZID=Australia/Melbourne:20260223T113000
DTEND;TZID=Australia/Melbourne:20260223T183000
DTSTAMP:20260420T082937
CREATED:20260114T010451Z
LAST-MODIFIED:20260218T035903Z
UID:1458-1771846200-1771871400@sydneybusinessgolfgroup.com.au
SUMMARY:St Michael's Golf Club
DESCRIPTION:11:30am ~ Registration with lunch packs      12:45am ~ Player Brief         1:00pm ~ Tee off \n5:15pm ~ Dinner and presentations. \n  \nCarts included
URL:https://sydneybusinessgolfgroup.com.au/event/st-michaels-golf-club-2/
LOCATION:St Michael’s Golf Club\, Jennifer Street\, Little Bay\, NSW\, 2036\, Australia
ATTACH;FMTTYPE=image/jpeg:https://sydneybusinessgolfgroup.com.au/wp-content/uploads/2025/01/StMichaelsGC.jpg
END:VEVENT
END:VCALENDAR