BEGIN:VCALENDAR
VERSION:2.0
PRODID:-//Sydney Business Golf Group - ECPv6.15.20//NONSGML v1.0//EN
CALSCALE:GREGORIAN
METHOD:PUBLISH
X-WR-CALNAME:Sydney Business Golf Group
X-ORIGINAL-URL:https://sydneybusinessgolfgroup.com.au
X-WR-CALDESC:Events for Sydney Business Golf Group
REFRESH-INTERVAL;VALUE=DURATION:PT1H
X-Robots-Tag:noindex
X-PUBLISHED-TTL:PT1H
BEGIN:VTIMEZONE
TZID:Australia/Melbourne
BEGIN:STANDARD
TZOFFSETFROM:+1100
TZOFFSETTO:+1000
TZNAME:AEST
DTSTART:20240406T160000
END:STANDARD
BEGIN:DAYLIGHT
TZOFFSETFROM:+1000
TZOFFSETTO:+1100
TZNAME:AEDT
DTSTART:20241005T160000
END:DAYLIGHT
BEGIN:STANDARD
TZOFFSETFROM:+1100
TZOFFSETTO:+1000
TZNAME:AEST
DTSTART:20250405T160000
END:STANDARD
BEGIN:DAYLIGHT
TZOFFSETFROM:+1000
TZOFFSETTO:+1100
TZNAME:AEDT
DTSTART:20251004T160000
END:DAYLIGHT
BEGIN:STANDARD
TZOFFSETFROM:+1100
TZOFFSETTO:+1000
TZNAME:AEST
DTSTART:20260404T160000
END:STANDARD
BEGIN:DAYLIGHT
TZOFFSETFROM:+1000
TZOFFSETTO:+1100
TZNAME:AEDT
DTSTART:20261003T160000
END:DAYLIGHT
END:VTIMEZONE
BEGIN:VEVENT
DTSTART;TZID=Australia/Melbourne:20250922T104500
DTEND;TZID=Australia/Melbourne:20250922T183000
DTSTAMP:20260424T181736
CREATED:20250211T040233Z
LAST-MODIFIED:20250921T103130Z
UID:1080-1758537900-1758565800@sydneybusinessgolfgroup.com.au
SUMMARY:Concord Golf Club
DESCRIPTION:
URL:https://sydneybusinessgolfgroup.com.au/event/concord-golf-club-2/
LOCATION:Concord Golf Club\, 190 Majors Bay Rd\,\, Concord\, NSW\, 2137
ATTACH;FMTTYPE=image/jpeg:https://sydneybusinessgolfgroup.com.au/wp-content/uploads/2025/02/Concord-Golf-photo-scaled.jpg
END:VEVENT
END:VCALENDAR