BEGIN:VCALENDAR
VERSION:2.0
PRODID:-//Sydney Business Golf Group - ECPv6.15.20//NONSGML v1.0//EN
CALSCALE:GREGORIAN
METHOD:PUBLISH
X-ORIGINAL-URL:https://sydneybusinessgolfgroup.com.au
X-WR-CALDESC:Events for Sydney Business Golf Group
REFRESH-INTERVAL;VALUE=DURATION:PT1H
X-Robots-Tag:noindex
X-PUBLISHED-TTL:PT1H
BEGIN:VTIMEZONE
TZID:Australia/Melbourne
BEGIN:STANDARD
TZOFFSETFROM:+1100
TZOFFSETTO:+1000
TZNAME:AEST
DTSTART:20250405T160000
END:STANDARD
BEGIN:DAYLIGHT
TZOFFSETFROM:+1000
TZOFFSETTO:+1100
TZNAME:AEDT
DTSTART:20251004T160000
END:DAYLIGHT
BEGIN:STANDARD
TZOFFSETFROM:+1100
TZOFFSETTO:+1000
TZNAME:AEST
DTSTART:20260404T160000
END:STANDARD
BEGIN:DAYLIGHT
TZOFFSETFROM:+1000
TZOFFSETTO:+1100
TZNAME:AEDT
DTSTART:20261003T160000
END:DAYLIGHT
BEGIN:STANDARD
TZOFFSETFROM:+1100
TZOFFSETTO:+1000
TZNAME:AEST
DTSTART:20270403T160000
END:STANDARD
BEGIN:DAYLIGHT
TZOFFSETFROM:+1000
TZOFFSETTO:+1100
TZNAME:AEDT
DTSTART:20271002T160000
END:DAYLIGHT
END:VTIMEZONE
BEGIN:VEVENT
DTSTART;TZID=Australia/Melbourne:20260421T103000
DTEND;TZID=Australia/Melbourne:20260421T183000
DTSTAMP:20260420T052221
CREATED:20260114T011053Z
LAST-MODIFIED:20260417T055350Z
UID:1463-1776767400-1776796200@sydneybusinessgolfgroup.com.au
SUMMARY:Terrey Hills Golf and Country Club
DESCRIPTION:11:am ~ Registration with lunch packs      11:45am ~ Player Brief         12pm ~ Tee off \n5pm ~ Dinner and presentations. \n  \nCarts included \n 
URL:https://sydneybusinessgolfgroup.com.au/event/terrey-hills-golf-and-country-club-2/
LOCATION:Terrey Hills Golf & Country Club\, 116 Booralie Rd\, Terrey Hills\, NSW\, 2084\, Australia
ATTACH;FMTTYPE=image/jpeg:https://sydneybusinessgolfgroup.com.au/wp-content/uploads/2025/01/terrey_hills_golf__country_club_cover-scaled.jpeg
END:VEVENT
END:VCALENDAR